BEGIN:VCALENDAR
VERSION:2.0
PRODID:-//peaceCENTER - ECPv4.6.13//NONSGML v1.0//EN
CALSCALE:GREGORIAN
METHOD:PUBLISH
X-WR-CALNAME:peaceCENTER
X-ORIGINAL-URL:http://www.sanantoniopeace.center
X-WR-CALDESC:Events for peaceCENTER
BEGIN:VEVENT
DTSTART;TZID=America/Chicago:20160202T113000
DTEND;TZID=America/Chicago:20160202T130000
DTSTAMP:20260425T133829
CREATED:20160126T200900Z
LAST-MODIFIED:20160126T200900Z
UID:6221-1454412600-1454418000@www.sanantoniopeace.center
SUMMARY:Free Film Screening: Renewal
DESCRIPTION:“RENEWAL”\, a Documentary Film\, 11:30 am-1 pm. Inspired by the many Americans who are answering a spiritual call to confront the enormous challenges of environmental degradation\, these men\, women\, and children are finding ways to become caretakers of the Earth\, from within their Christian\, Jewish\, Buddhist and Muslim traditions. The religious-environmental movement grows as people from diverse traditions work to build a sustainable future. \n \n
URL:http://www.sanantoniopeace.center/event/free-film-screening-renewal/
LOCATION:4301 Broadway\, San Antonio\, TX\, 78209\, United States
ORGANIZER;CN="Headwaters%20at%20Incarnate%20Word":MAILTO:pamela.ball@amormeus.org
END:VEVENT
END:VCALENDAR