BEGIN:VCALENDAR
VERSION:2.0
PRODID:-//peaceCENTER - ECPv4.6.13//NONSGML v1.0//EN
CALSCALE:GREGORIAN
METHOD:PUBLISH
X-WR-CALNAME:peaceCENTER
X-ORIGINAL-URL:http://www.sanantoniopeace.center
X-WR-CALDESC:Events for peaceCENTER
BEGIN:VEVENT
DTSTART;TZID=America/Chicago:20160920T180000
DTEND;TZID=America/Chicago:20160920T200000
DTSTAMP:20260425T152028
CREATED:20160908T010236Z
LAST-MODIFIED:20160908T010236Z
UID:8597-1474394400-1474401600@www.sanantoniopeace.center
SUMMARY:Forum -- Texas Voter ID Law: Where Are We Today
DESCRIPTION:From the Express News: If you’re confused about the status of Texas’ voter ID law\, you aren’t alone. To mitigate that statewide confusion\, the League of Women Voters here and the San Antonio student chapter of the American Constitution Society will host a forum on “Texas Voter ID Law: Where Are We Today.” \nThe title isn’t followed by a question mark\, but it probably should be. \nThe forum is set for 6-8 p.m. Sept. 20 at the San Antonio Central Library\, and it’s free. \nConsidered the strictest of all Republican-led efforts to change voting laws in several states\, the Texas law allowed only seven specific state-sanctioned photo IDs and was ruled discriminatory toward minorities in intent and effect. \nFor the Nov. 8 general election\, Texans still will need one of those previously sanctioned IDs\, or will need to sign an affidavit that they’re U.S. citizens plus show a court-ordered alternate ID. There’s a list of those\, including an original birth certificate. \nAs far as I can tell\, voters also will have to cite a “reasonable impediment declaration\,” that describes why the voter couldn’t secure one of seven originally approved means of photo identification. There’s list of those “reasonable impediments\,” too. \nIt’s no wonder we’ll need clarity. \nThe League of Women Voters’ fall kickoff forum will draw on four experts — Bexar County elections administrator Jacquelyn Callanen\, St. Mary’s University political scientist Henry Flores\, ACLU of Texas attorney Satinder Singh and Express-News Austin Bureau reporter David Saleh Rauf. \nFor questions about the forum\, call (210) ­657-­2206\, and read more about the status of the voter ID law here\, here and here. \n
URL:http://www.sanantoniopeace.center/event/forum-texas-voter-id-law-where-are-we-today/
LOCATION:600 Soledad St\,\, San Antonio\, TX\, 78205\, United States
CATEGORIES:Other
END:VEVENT
END:VCALENDAR