BEGIN:VCALENDAR
VERSION:2.0
PRODID:-//peaceCENTER - ECPv4.6.13//NONSGML v1.0//EN
CALSCALE:GREGORIAN
METHOD:PUBLISH
X-WR-CALNAME:peaceCENTER
X-ORIGINAL-URL:http://www.sanantoniopeace.center
X-WR-CALDESC:Events for peaceCENTER
BEGIN:VEVENT
DTSTART;TZID=America/Chicago:20141122T113000
DTEND;TZID=America/Chicago:20141122T133000
DTSTAMP:20260425T183358
CREATED:20141111T144534Z
LAST-MODIFIED:20141111T144534Z
UID:855-1416655800-1416663000@www.sanantoniopeace.center
SUMMARY:Forum on Indigenous Identity
DESCRIPTION: \nIndigenous Forum on Indigenous Identity\, in particular to Federally non-recognized Indigenous communities of Texas. Presentation by three guest speakers. Q&A at end of presentation. All welcome. \n
URL:http://www.sanantoniopeace.center/event/forum-on-indigenous-identity/
LOCATION:3134 Roosevelt\, San Antonio\, TX\, 78214\, United States
END:VEVENT
END:VCALENDAR