BEGIN:VCALENDAR
VERSION:2.0
PRODID:-//peaceCENTER - ECPv4.6.13//NONSGML v1.0//EN
CALSCALE:GREGORIAN
METHOD:PUBLISH
X-WR-CALNAME:peaceCENTER
X-ORIGINAL-URL:http://www.sanantoniopeace.center
X-WR-CALDESC:Events for peaceCENTER
BEGIN:VEVENT
DTSTART;TZID=America/Chicago:20160204T174500
DTEND;TZID=America/Chicago:20160204T193000
DTSTAMP:20260425T124017
CREATED:20160120T142346Z
LAST-MODIFIED:20160120T162130Z
UID:6096-1454607900-1454614200@www.sanantoniopeace.center
SUMMARY:Foods from the Quran and the Bible & The Islamic Declaration on Climate Change
DESCRIPTION:Enjoy a reception with foods mentioned in the Quran\, Christian Scriptures\, and Hebrew Scriptures gifts from God for all God’s people.  Dr. Rolla Alaydi and Narjis Pierre with Foods from the Quran and the Bible\, followed by a discussion with Narjis Pierre\, Sarwat Hussain\, people of the Dialogue Institute\, and friends. All will be invited to discuss little and big things individuals and groups can do about climate change.\nRead ahead (optional): Islamic Declaration on Climate Change \n
URL:http://www.sanantoniopeace.center/event/foods-from-the-quran-and-the-bible-the-islamic-declaration-on-climate-change/
LOCATION:4301 Broadway\, San Antonio\, TX\, 78209\, United States
CATEGORIES:Other
ORGANIZER;CN="CAIR%20%28Council%20on%20American%20Islamic%20Relations%29%2C%20the%20Dialogue%20Institute%2C%20Muslim%20Women%E2%80%99s%20Association%2C%20and%20UIW%20Liturgical%20Outreach":MAILTO:Sr. Martha Ann Kirk, kirk@uiwtx.edu
END:VEVENT
END:VCALENDAR