BEGIN:VCALENDAR
VERSION:2.0
PRODID:-//peaceCENTER - ECPv4.6.13//NONSGML v1.0//EN
CALSCALE:GREGORIAN
METHOD:PUBLISH
X-WR-CALNAME:peaceCENTER
X-ORIGINAL-URL:http://www.sanantoniopeace.center
X-WR-CALDESC:Events for peaceCENTER
BEGIN:VEVENT
DTSTART;TZID=America/Chicago:20160204T163000
DTEND;TZID=America/Chicago:20160204T174500
DTSTAMP:20260425T135455
CREATED:20160120T143103Z
LAST-MODIFIED:20160120T162039Z
UID:6099-1454603400-1454607900@www.sanantoniopeace.center
SUMMARY:Food Justice in the Era of Climate Change
DESCRIPTION: \nShared by Dr. Jeff Crane\, author of The Environment in American History\, Nature and the Formation of the United States. In modern America approximately 50 million Americans\, including about one-fourth of all children\, suffer from food insecurity. The food that is available is often unhealthy and produced in an industrial-agricultural economy that is damaging to both farmworkers and ecosystems. Community and urban farming offer some solutions to those problems while also helping urban populations prepare for the unpredictable impacts of climate change. \n
URL:http://www.sanantoniopeace.center/event/food-justice-in-the-era-of-climate-change/
LOCATION:4301 Broadway\, San Antonio\, TX\, 78209\, United States
CATEGORIES:Other
ORGANIZER;CN="University%20of%20the%20Incarnate%20Word":MAILTO: jcrane@uiwtx.edu
END:VEVENT
END:VCALENDAR