BEGIN:VCALENDAR
VERSION:2.0
PRODID:-//peaceCENTER - ECPv4.6.13//NONSGML v1.0//EN
CALSCALE:GREGORIAN
METHOD:PUBLISH
X-WR-CALNAME:peaceCENTER
X-ORIGINAL-URL:http://www.sanantoniopeace.center
X-WR-CALDESC:Events for peaceCENTER
BEGIN:VEVENT
DTSTART;TZID=America/Chicago:20160205T183000
DTEND;TZID=America/Chicago:20160205T200000
DTSTAMP:20260425T115432
CREATED:20160120T215924Z
LAST-MODIFIED:20160120T215924Z
UID:6105-1454697000-1454702400@www.sanantoniopeace.center
SUMMARY:First Friday Open House: Paris Climate Agreement and Climate Change
DESCRIPTION: 195 nations signed a climate agreement in Paris. The presentation examines the science of climate change and the Paris climate agreement and challenges to make the agreement work as planned to keep global temperatures within the agreements parameters. \n
URL:http://www.sanantoniopeace.center/event/first-friday-open-house-paris-climate-agreement-and-climate-change/
LOCATION:1443 S. St. Mary's\, San Antonio\, TX\, 78210\, United States
CATEGORIES:Other
ORGANIZER;CN="San%20Antonio%20Mennonite%20Church":MAILTO:jlcapplevalleyca@gmail.com
END:VEVENT
END:VCALENDAR