BEGIN:VCALENDAR
VERSION:2.0
PRODID:-//peaceCENTER - ECPv4.6.13//NONSGML v1.0//EN
CALSCALE:GREGORIAN
METHOD:PUBLISH
X-WR-CALNAME:peaceCENTER
X-ORIGINAL-URL:http://www.sanantoniopeace.center
X-WR-CALDESC:Events for peaceCENTER
BEGIN:VEVENT
DTSTART;TZID=America/Chicago:20150304T140000
DTEND;TZID=America/Chicago:20150304T153000
DTSTAMP:20260425T140337
CREATED:20150203T165149Z
LAST-MODIFIED:20150203T165149Z
UID:2274-1425477600-1425483000@www.sanantoniopeace.center
SUMMARY:Film: Stolen Education
DESCRIPTION:Stolen Education (67 minutes) documents the untold story of Mexican-American schoolchildren who challenged discrimination in Texas schools in the 1950s and changed the face of education in the Southwest. For more information\, please contact Farhad Moshiri at (210) 829-3842 or moshiri@uiwtx.edu \n
URL:http://www.sanantoniopeace.center/event/film-stolen-education/
LOCATION:4301 Broadway\, San Antonio\, TX\, United States
ORGANIZER;CN="Fahrad%27s%20Film%20Series%20%2F%20Fahrad%20Moshiri":MAILTO:moshiri@uiwtx.edu
END:VEVENT
END:VCALENDAR