BEGIN:VCALENDAR
VERSION:2.0
PRODID:-//peaceCENTER - ECPv4.6.13//NONSGML v1.0//EN
CALSCALE:GREGORIAN
METHOD:PUBLISH
X-WR-CALNAME:peaceCENTER
X-ORIGINAL-URL:http://www.sanantoniopeace.center
X-WR-CALDESC:Events for peaceCENTER
BEGIN:VEVENT
DTSTART;TZID=America/Chicago:20160901T190000
DTEND;TZID=America/Chicago:20160901T210000
DTSTAMP:20260425T190837
CREATED:20160812T013251Z
LAST-MODIFIED:20160812T013251Z
UID:8356-1472756400-1472763600@www.sanantoniopeace.center
SUMMARY:Film Showing: Occupation of the American Mind
DESCRIPTION:The First Thursday for Palestine film series starts out with the acclaimed documentary\, “The Occupation of the American Mind: Israel’s Public Relations War in the United States.”  Watch the trailer: \n \n
URL:http://www.sanantoniopeace.center/event/film-showing-occupation-of-the-american-mind/
LOCATION:1412 E. Commerce\, San Antonio\, TX\, United States
CATEGORIES:Other
END:VEVENT
END:VCALENDAR