BEGIN:VCALENDAR
VERSION:2.0
PRODID:-//peaceCENTER - ECPv4.6.13//NONSGML v1.0//EN
CALSCALE:GREGORIAN
METHOD:PUBLISH
X-WR-CALNAME:peaceCENTER
X-ORIGINAL-URL:http://www.sanantoniopeace.center
X-WR-CALDESC:Events for peaceCENTER
BEGIN:VEVENT
DTSTART;TZID=America/Chicago:20160713T190000
DTEND;TZID=America/Chicago:20160713T210000
DTSTAMP:20260425T204630
CREATED:20160711T161901Z
LAST-MODIFIED:20160711T162011Z
UID:7874-1468436400-1468443600@www.sanantoniopeace.center
SUMMARY:Film showing: At the Fork
DESCRIPTION: \nJoin The Humane Society of the United States and Whole Foods Market for a special screening of At the Fork. Filmmaker and omnivore John Papola\, together with his vegetarian wife Lisa\, offer up a timely and refreshingly unbiased look at how farm animals are raised for our consumption. With unprecedented access to large-scale conventional farms\, Papola asks the tough questions behind every hamburger\, glass of milk and baby-back rib. What he discovers are not heartless industrialists\, but America’s farmers — real people who\, along with him\, are grappling with the moral dimensions of farming animals for food. Must be over 12 to attend. \n \n
URL:http://www.sanantoniopeace.center/event/film-showing-at-the-fork/
LOCATION:4522 Fredericksburg Rd (Wonderland Mall)\, San Antonio\, TX\, 78201\, United States
CATEGORIES:Other
END:VEVENT
END:VCALENDAR