BEGIN:VCALENDAR
VERSION:2.0
PRODID:-//peaceCENTER - ECPv4.6.13//NONSGML v1.0//EN
CALSCALE:GREGORIAN
METHOD:PUBLISH
X-WR-CALNAME:peaceCENTER
X-ORIGINAL-URL:http://www.sanantoniopeace.center
X-WR-CALDESC:Events for peaceCENTER
BEGIN:VEVENT
DTSTART;TZID=America/Chicago:20141123T123000
DTEND;TZID=America/Chicago:20141123T143000
DTSTAMP:20260425T172408
CREATED:20141106T134531Z
LAST-MODIFIED:20141106T134531Z
UID:772-1416745800-1416753000@www.sanantoniopeace.center
SUMMARY:Film Showing -- A Fierce Green Fire: The Battle for a Living Planet
DESCRIPTION: \n
URL:http://www.sanantoniopeace.center/event/film-showing-a-fierce-green-fire-the-battle-for-a-living-planet/
LOCATION:7150 W Interstate 10\, San Antonio\, TX\, 78213\, United States
END:VEVENT
END:VCALENDAR