BEGIN:VCALENDAR
VERSION:2.0
PRODID:-//peaceCENTER - ECPv4.6.13//NONSGML v1.0//EN
CALSCALE:GREGORIAN
METHOD:PUBLISH
X-WR-CALNAME:peaceCENTER
X-ORIGINAL-URL:http://www.sanantoniopeace.center
X-WR-CALDESC:Events for peaceCENTER
BEGIN:VEVENT
DTSTART;TZID=America/Chicago:20150116T180000
DTEND;TZID=America/Chicago:20150116T210000
DTSTAMP:20260425T134344
CREATED:20150115T143100Z
LAST-MODIFIED:20150115T143100Z
UID:2048-1421431200-1421442000@www.sanantoniopeace.center
SUMMARY:Film Screening: The New Black @ The McNay
DESCRIPTION:The New Black is a documentary that tells the story of how African-American and AA faith based communities are grappling with the gay rights issue in light of the recent gay marriage movement and the fight over civil rights. Within this film there are insights into the current political and social landscape\, it seems critical – perhaps even urgent – to have a conversation about civil rights\, equality and progress in these United States. The simultaneous expansion and erosion of liberties that fall into the category of “inalienable rights” seems\, at the very least\, reason to be both vigilant and wary. For those whose identities exist within both the LGBTQA and other minority and marginalized communities\, it’s a familiar story. The Supreme court’s recent rulings hold both promising and ominous implications\, and are yet another reminder of the shifting ground on which so many rights and protections rest. \nAfter the film there will be a panel discussion with an insightful question and answer period we invite everyone from all communities to attend this powerful event! \nThis event is sponsored by The Awakening Spiritual Community and is one of the only dream week events with the focus on the LGBTQ community please come and show your support and lend you thoughts and voice for change\nRev. Erika Forbes- Moderator and Panel Facilitator \n
URL:http://www.sanantoniopeace.center/event/film-screening-the-new-black-the-mcnay/
LOCATION:6000 N. New Braunfels\, San Antonio\, TX\, 78209\, United States
END:VEVENT
END:VCALENDAR