BEGIN:VCALENDAR
VERSION:2.0
PRODID:-//peaceCENTER - ECPv4.6.13//NONSGML v1.0//EN
CALSCALE:GREGORIAN
METHOD:PUBLISH
X-WR-CALNAME:peaceCENTER
X-ORIGINAL-URL:http://www.sanantoniopeace.center
X-WR-CALDESC:Events for peaceCENTER
BEGIN:VEVENT
DTSTART;TZID=America/Chicago:20150409T183000
DTEND;TZID=America/Chicago:20150409T210000
DTSTAMP:20260425T102845
CREATED:20150328T193821Z
LAST-MODIFIED:20150328T193821Z
UID:2718-1428604200-1428613200@www.sanantoniopeace.center
SUMMARY:Film Screening: Before God\, We Are All Family
DESCRIPTION:\n\nJoin Texas Wins in San Antonio for a screening of Before God\, We Are All Family As faith adherents\, we are compelled to live out the teachings of of our faith—to Love thy neighbor and to do unto others as we would have them do unto us.That’s why we believe that all Texans\, including gay and transgender Texans\, should be treated with dignity and respect.So to highlight the real harms that our fellow Texans experience\, we will be showing Before God\, We Are All Family in cities across the state\, including right here in San Antonio. These screenings are in partnership with the Human Rights Campaign and Texas Wins Catholics for Inclusion and aresponsored by First Unitarian Universalist Church of San Antonio’s Rainbow Inclusion Committee. Join us on Thursday\, April 9th at 6:30 PM for a special screening of Before God\, We Are All Family in San Antonio. Just click below to RSVP.WHO: You\, your family and friendsWHAT: Screening of Before God\, We Are All FamilyWHERE: First Unitarian Universalist Church of San Antonio Fellowship Hall\, 7150 W Interstate 10\, San Antonio\, Texas 78213WHEN: Thursday\, April 9\, 6:30 PM (Program will begin at 7pm)\nRSVP TODAY: http://txwins.org/SanAntonio\n
URL:http://www.sanantoniopeace.center/event/film-screening-before-god-we-are-all-family/
LOCATION:7150 Interstate 10\, TX\, 78213\, United States
END:VEVENT
END:VCALENDAR