BEGIN:VCALENDAR
VERSION:2.0
PRODID:-//peaceCENTER - ECPv4.6.13//NONSGML v1.0//EN
CALSCALE:GREGORIAN
METHOD:PUBLISH
X-WR-CALNAME:peaceCENTER
X-ORIGINAL-URL:http://www.sanantoniopeace.center
X-WR-CALDESC:Events for peaceCENTER
BEGIN:VEVENT
DTSTART;TZID=America/Chicago:20170620T190000
DTEND;TZID=America/Chicago:20170620T220000
DTSTAMP:20260425T014958
CREATED:20170619T223431Z
LAST-MODIFIED:20170619T223431Z
UID:10495-1497985200-1497996000@www.sanantoniopeace.center
SUMMARY:Film & Panel Discussion: "The Danish Girl"
DESCRIPTION:San Antonio Society for Psychoanalytic Studies is proud to present the feature film “The Danish Girl”. Following the film viewing\, we are hosting a panel discussion with special guests Cynthia Phillips and Lauryn Farris who will discuss their life experiences and thoughts on the film. \nModerated by Dr. Trey Thompson\, the discussion will end with a q&a for our guests. This is a remarkable opportunity for those in the psychology and social services to better understand the emotional issues that transgendered persons face. \nThe film begins at 7 PM with the panel discussion following. Proceeds from the film will be donated to the Transgender Education Network of Texas. \nPURCHASE TICKETS HERE \n \n
URL:http://www.sanantoniopeace.center/event/film-panel-discussion-the-danish-girl-2/
LOCATION:618 Northwest Loop 410   \, San Antonio\, TX\, 78216\, United States
CATEGORIES:Other
END:VEVENT
END:VCALENDAR