BEGIN:VCALENDAR
VERSION:2.0
PRODID:-//peaceCENTER - ECPv4.6.13//NONSGML v1.0//EN
CALSCALE:GREGORIAN
METHOD:PUBLISH
X-WR-CALNAME:peaceCENTER
X-ORIGINAL-URL:http://www.sanantoniopeace.center
X-WR-CALDESC:Events for peaceCENTER
BEGIN:VEVENT
DTSTART;TZID=America/Chicago:20150530T190000
DTEND;TZID=America/Chicago:20150530T210000
DTSTAMP:20260425T130521
CREATED:20150516T031153Z
LAST-MODIFIED:20150516T031153Z
UID:3049-1433012400-1433019600@www.sanantoniopeace.center
SUMMARY:Film: No Sanctuary - Big Business & Family Detention
DESCRIPTION: \n  \nSouthwest Workers Union will host a movie screening of “Sanctuary: Big Business & Family Detention” to raise funds and attention to end family detention. \nThe film is a short documentary that gives a brief history of family detention. Filmmaker\, Matthew Gossage follows a mother\, Sara and her 7 year old daughter who were detained in the Karnes Family Detention Center that is operated by the GEO Group. \nFunds raised will go toward the bail bond of families that are still detained in these and other detention centers. \n
URL:http://www.sanantoniopeace.center/event/film-no-sanctuary-big-business-family-detention/
LOCATION:1412 E. Commerce\, San Antonio\, TX\, 78205\, United States
END:VEVENT
END:VCALENDAR