BEGIN:VCALENDAR
VERSION:2.0
PRODID:-//peaceCENTER - ECPv4.6.13//NONSGML v1.0//EN
CALSCALE:GREGORIAN
METHOD:PUBLISH
X-WR-CALNAME:peaceCENTER
X-ORIGINAL-URL:http://www.sanantoniopeace.center
X-WR-CALDESC:Events for peaceCENTER
BEGIN:VEVENT
DTSTART;TZID=America/Chicago:20180118T180000
DTEND;TZID=America/Chicago:20180118T200000
DTSTAMP:20260424T224607
CREATED:20171219T053605Z
LAST-MODIFIED:20171219T053605Z
UID:11627-1516298400-1516305600@www.sanantoniopeace.center
SUMMARY:Film & Discussion: What is Justice?
DESCRIPTION: \nA film screen of “The Last 40 Miles” followed by a dialogue on the Texas Death Penalty with Film Maker Alex Hannaford and TCADP Executive Director Kristin Houle. \nFree and open to the public \n
URL:http://www.sanantoniopeace.center/event/film-discussion-what-is-justice/
LOCATION:411 S.W. 24th St.\, San Antonio\, TX\, 78207\, United States
CATEGORIES:DreamWeek,Other
END:VEVENT
END:VCALENDAR