BEGIN:VCALENDAR
VERSION:2.0
PRODID:-//peaceCENTER - ECPv4.6.13//NONSGML v1.0//EN
CALSCALE:GREGORIAN
METHOD:PUBLISH
X-WR-CALNAME:peaceCENTER
X-ORIGINAL-URL:http://www.sanantoniopeace.center
X-WR-CALDESC:Events for peaceCENTER
BEGIN:VEVENT
DTSTART;TZID=America/Chicago:20170916T140000
DTEND;TZID=America/Chicago:20170916T170000
DTSTAMP:20260425T030912
CREATED:20170911T123129Z
LAST-MODIFIED:20170911T123129Z
UID:11160-1505570400-1505581200@www.sanantoniopeace.center
SUMMARY:Film:  Citizen Jane: The Battle for the City
DESCRIPTION:Jane Jacobs was an urban activist and public intellectual\, a woman who “believed the city is not about buildings\, the city is about people.” Jacob’s life and activism are depicted in Citizen Jane: The Battle for the City\, a documentary film about her efforts to stop redevelopment of now historic New York City neighborhoods in the 1960s. \nAlamo Drafthouse Westlakes will be screening the documentary on Saturday\, Sept. 16\, at 2 p.m. A moderated discussion with the film’s producer\, Robert Hammond will follow the screening. \n \n
URL:http://www.sanantoniopeace.center/event/film-citizen-jane-the-battle-for-the-city/
LOCATION:1255 SW Loop 410\, San Antonio\, TX\, 78227\, United States
CATEGORIES:Other
END:VEVENT
END:VCALENDAR