BEGIN:VCALENDAR
VERSION:2.0
PRODID:-//peaceCENTER - ECPv4.6.13//NONSGML v1.0//EN
CALSCALE:GREGORIAN
METHOD:PUBLISH
X-WR-CALNAME:peaceCENTER
X-ORIGINAL-URL:http://www.sanantoniopeace.center
X-WR-CALDESC:Events for peaceCENTER
BEGIN:VEVENT
DTSTART;TZID=America/Chicago:20160115T183000
DTEND;TZID=America/Chicago:20160115T200000
DTSTAMP:20260425T154036
CREATED:20160102T132230Z
LAST-MODIFIED:20160102T135105Z
UID:5930-1452882600-1452888000@www.sanantoniopeace.center
SUMMARY:Film: At the River I Stand
DESCRIPTION:“At the River I Stand” is a documentary set in Memphis\, Tennessee during the 1960s. Directed by David Appleby\, Allison Graham and Steven Ross\, this poignant film narrates the mobilization and self-determination of sanitation workers successfully unionizing. It covers two very eventful months in 1968 including the tragic death of Dr. Martin Luther King Jr. in Memphis. \n
URL:http://www.sanantoniopeace.center/event/film-at-the-river-i-stand/
LOCATION:1412 E Commerce St\, San Antonio\, TX\, 78205\, United States
END:VEVENT
END:VCALENDAR