BEGIN:VCALENDAR
VERSION:2.0
PRODID:-//peaceCENTER - ECPv4.6.13//NONSGML v1.0//EN
CALSCALE:GREGORIAN
METHOD:PUBLISH
X-WR-CALNAME:peaceCENTER
X-ORIGINAL-URL:http://www.sanantoniopeace.center
X-WR-CALDESC:Events for peaceCENTER
BEGIN:VEVENT
DTSTART;TZID=America/Chicago:20141125T183000
DTEND;TZID=America/Chicago:20141125T213000
DTSTAMP:20260425T160328
CREATED:20141125T141801Z
LAST-MODIFIED:20141125T141801Z
UID:1316-1416940200-1416951000@www.sanantoniopeace.center
SUMMARY:Ferguson Gathering @ Bexar County Courthouse
DESCRIPTION:MOVE San Antonio is sponsoring a gathering in response to the Grand Jury decision with regard to the shooting of Michael Brown\, today – Tuesday\, November 25 – from 6:30-9:30 pm on the Dolorosa St. side of the Bexar County Courthouse. \n
URL:http://www.sanantoniopeace.center/event/ferguson-gathering-bexar-county-courthouse/
LOCATION:100 Dolorosa\, San Antonio\, TX\, 78205\, United States
END:VEVENT
END:VCALENDAR