BEGIN:VCALENDAR
VERSION:2.0
PRODID:-//peaceCENTER - ECPv4.6.13//NONSGML v1.0//EN
CALSCALE:GREGORIAN
METHOD:PUBLISH
X-WR-CALNAME:peaceCENTER
X-ORIGINAL-URL:http://www.sanantoniopeace.center
X-WR-CALDESC:Events for peaceCENTER
BEGIN:VEVENT
DTSTART;TZID=America/Chicago:20160702T140000
DTEND;TZID=America/Chicago:20160702T160000
DTSTAMP:20260425T213829
CREATED:20160630T114731Z
LAST-MODIFIED:20160630T114731Z
UID:7641-1467468000-1467475200@www.sanantoniopeace.center
SUMMARY:Feed the Need\, Ramadan Edition
DESCRIPTION:\nPlease join the Muslim Children Education and Civic Center during Ramadan to support the homeless community of San Antonio as they prepare sack lunches at MCECC. This unique experience includes an (optional) trip to downtown to personally deliver the lunches to those in need. Ramadan isn’t over after the 27th night! This is a fulfilling way to earn even more ajar (spiritual merit)  before the month is over\, inshaAllah. \n
URL:http://www.sanantoniopeace.center/event/feed-the-need-ramadan-edition/
LOCATION:5281 Casa Bella\, San Antonio\, TX\, 78249\, United States
CATEGORIES:Other
END:VEVENT
END:VCALENDAR