BEGIN:VCALENDAR
VERSION:2.0
PRODID:-//peaceCENTER - ECPv4.6.13//NONSGML v1.0//EN
CALSCALE:GREGORIAN
METHOD:PUBLISH
X-WR-CALNAME:peaceCENTER
X-ORIGINAL-URL:http://www.sanantoniopeace.center
X-WR-CALDESC:Events for peaceCENTER
BEGIN:VEVENT
DTSTART;TZID=America/Chicago:20160623T183000
DTEND;TZID=America/Chicago:20160623T193000
DTSTAMP:20260425T190554
CREATED:20160617T101352Z
LAST-MODIFIED:20160617T101500Z
UID:7307-1466706600-1466710200@www.sanantoniopeace.center
SUMMARY:Exhibition Lecture: Obey Shepard Fairey
DESCRIPTION: \n  \nArist\, vandal\, activist\, and risk taker\, Shepard Fairey challenges the establishment. Author of Shepard Fairey Inc. Artist/Professional/Vandal (2014) G. James Daichendt discusses street art as a global movement and the influence of Shepard Fairey’s protest prints. Daichendt is Professor of Art History and Dean of the College of Arts and Humanities at Point Loma Nazarene University. \nThere is no charge for the lecture\, but McNay admission is $20 for adults (members\, children\, teens and active duty military are free; $15 for seniors.) \nShepard Fairey is one of the country’s most famous and influential street artists. He rose to national prominence in 2008 when he designed the famous Hope poster for Barack Obama’s presidential campaign. Most of Fairey’s prints were produced in collaboration with the late Richard Duardo at Modern Multiples in Los Angeles\, a print shop that has been a favorite of San Antonio collectors Harriett and Ricardo Romo. With Duardo’s encouragement\, the Romos collected Fairey’s art for a number of years. While Fairey is not a Latino artist\, his work often does have a social or political message like the Chicano art the Romos are known for collecting. \nThe remarkable thing about Fairey’s work is that he has created his own unique visual and graphic language\, a style that is immediately recognizable and legible. He does this with a limited color palette of black\, white\, tan\, and red as well as bold\, repeating patterns and motifs. One of his most famous motifs is the highly stylized face of the professional wrestler André the Giant emblazoned with the word “OBEY.” Based on a street installation the artist did while a student at the Rhode Island School of Design called André the Giant has a Posse\, the image has become Fairey’s trademark and it makes an appearance in a couple of the Romo prints. \n \nThe eight large-scale works in the exhibition are all gifts of the Romos to the museum and this is the first time they have been on public view. \n
URL:http://www.sanantoniopeace.center/event/exhibition-lecture-obey-shepard-fairey/
LOCATION:6000 N New Braunfels\, San Antonio\, TX\, 78209\, United States
CATEGORIES:Other
END:VEVENT
END:VCALENDAR