BEGIN:VCALENDAR
VERSION:2.0
PRODID:-//peaceCENTER - ECPv4.6.13//NONSGML v1.0//EN
CALSCALE:GREGORIAN
METHOD:PUBLISH
X-WR-CALNAME:peaceCENTER
X-ORIGINAL-URL:http://www.sanantoniopeace.center
X-WR-CALDESC:Events for peaceCENTER
BEGIN:VEVENT
DTSTART;TZID=America/Chicago:20161022T090000
DTEND;TZID=America/Chicago:20161022T160000
DTSTAMP:20260425T162839
CREATED:20160908T044024Z
LAST-MODIFIED:20160908T044024Z
UID:8601-1477126800-1477152000@www.sanantoniopeace.center
SUMMARY:Equal Pay SA Summit
DESCRIPTION:This event is free and open to the public\, but space is limited so please register to attend the event by October 14\, 2016. If you have registered\, but are no longer able to attend\, please let them know.  \nThe City of San Antonio Mayor’s Commission on the Status of Women will host a summit to discuss strategies to ensure equal pay and equal opportunity for women in the workplace. \nThis will be a day long summit of business and non-profit leaders as well as community members to discuss the impact of pay equity in our daily lives and economy. We will feature three panel discussions through the day focusing on policy surrounding pay equity\, individual experiences\, and creating systematic change. \nIn addition to panel discussions\, we are excited to bring the American Association of University Women (AAUW) Work Smart negotiation workshop to our community. This workshop teaches women how to determine their market worth based on their skills\, experience\, performance\, qualifications\, and responsibilities on the job and to use business strategies that will lead them to success in negotiating their salary. \nBusiness casual attire. A light lunch will be provided. If you have any questions\, please contact Rebecca De La Garza at rebecca.delagarza@sanantonio.gov or 210-207-7879. \n9:00 AM Registration \n9:30 AM Program Begins \n10:15 AM Panel 1: Educate- policy surrounding pay equity \n11:15 AM Lunch & Panel 2: Inspire- personal experiences \n12:30 Panel 3: Advocate- creating systematic change \n1:30 PM AAUW Work Smart Negotiation Workshop Begins \n3:30 PM Program Concludes \n
URL:http://www.sanantoniopeace.center/event/equal-pay-sa-summit/
LOCATION:3233 N. St. Mary's  \, San Antonio\, TX\, 78212\, United States
CATEGORIES:Other
ORGANIZER;CN="City%20of%20San%20Antonio%20Mayor%27s%20Commission%20on%20the%20Status%20of%20Women":MAILTO:rebecca.delagarza@sanantonio.gov 
END:VEVENT
END:VCALENDAR