BEGIN:VCALENDAR
VERSION:2.0
PRODID:-//peaceCENTER - ECPv4.6.13//NONSGML v1.0//EN
CALSCALE:GREGORIAN
METHOD:PUBLISH
X-WR-CALNAME:peaceCENTER
X-ORIGINAL-URL:http://www.sanantoniopeace.center
X-WR-CALDESC:Events for peaceCENTER
BEGIN:VEVENT
DTSTART;TZID=America/Chicago:20160507T190000
DTEND;TZID=America/Chicago:20160507T190000
DTSTAMP:20260425T124901
CREATED:20160504T235910Z
LAST-MODIFIED:20160504T235910Z
UID:6868-1462647600-1462647600@www.sanantoniopeace.center
SUMMARY:#EndFamilyDetention Mother's Day Event
DESCRIPTION:  \nRAICES will be hosting a Mother’s day event to listen to stories from mothers released from detention centers. Although we celebrate these mothers we can’t forget that there’s still thousands of mother’s and children’s being detained at one of the three family detention centers around the country.\n\nPlease join us at:\n\nLa Trinidad United Methodist United Church \n300 San Fernando St. \nSan Antonio\, TX 78207\n7:00PM\n
URL:http://www.sanantoniopeace.center/event/endfamilydetention-mothers-day-event/
LOCATION:300 San Fernando St.\, San Antonio\, TX\, 78207\, United States
CATEGORIES:Other
END:VEVENT
END:VCALENDAR