BEGIN:VCALENDAR
VERSION:2.0
PRODID:-//peaceCENTER - ECPv4.6.13//NONSGML v1.0//EN
CALSCALE:GREGORIAN
METHOD:PUBLISH
X-WR-CALNAME:peaceCENTER
X-ORIGINAL-URL:http://www.sanantoniopeace.center
X-WR-CALDESC:Events for peaceCENTER
BEGIN:VEVENT
DTSTART;TZID=America/Chicago:20141104T070000
DTEND;TZID=America/Chicago:20141104T190000
DTSTAMP:20260425T183550
CREATED:20141018T160227Z
LAST-MODIFIED:20141018T160227Z
UID:353-1415084400-1415127600@www.sanantoniopeace.center
SUMMARY:Election Day
DESCRIPTION:Don’t know where to vote? Use the Bexar County handy Precinct Finder APP to find your polling location.\nEarly Voting is from October 20 through October 31.\nHere is a list of the acceptable forms of photo ID:\n\nTexas driver license issued by the Texas Department of Public Safety (DPS)\nTexas Election Identification Certificate issued by DPS\nTexas personal identification card issued by DPS\nTexas concealed handgun license issued by DPS\nUnited States military identification card containing the personâs photograph\nUnited States citizenship certificate containing the personâs photograph\nUnited States passport\n\n
URL:http://www.sanantoniopeace.center/event/election-day/
END:VEVENT
END:VCALENDAR