BEGIN:VCALENDAR
VERSION:2.0
PRODID:-//peaceCENTER - ECPv4.6.13//NONSGML v1.0//EN
CALSCALE:GREGORIAN
METHOD:PUBLISH
X-WR-CALNAME:peaceCENTER
X-ORIGINAL-URL:http://www.sanantoniopeace.center
X-WR-CALDESC:Events for peaceCENTER
BEGIN:VEVENT
DTSTART;TZID=America/Chicago:20160301T070000
DTEND;TZID=America/Chicago:20160301T190000
DTSTAMP:20260425T121300
CREATED:20160228T155535Z
LAST-MODIFIED:20160228T155643Z
UID:6527-1456815600-1456858800@www.sanantoniopeace.center
SUMMARY:Election Day!
DESCRIPTION:If you want to find your polling place there is a handy precinct finder on the Bexar County Elections page! \n
URL:http://www.sanantoniopeace.center/event/election-day-3/
END:VEVENT
END:VCALENDAR