BEGIN:VCALENDAR
VERSION:2.0
PRODID:-//peaceCENTER - ECPv4.6.13//NONSGML v1.0//EN
CALSCALE:GREGORIAN
METHOD:PUBLISH
X-WR-CALNAME:peaceCENTER
X-ORIGINAL-URL:http://www.sanantoniopeace.center
X-WR-CALDESC:Events for peaceCENTER
BEGIN:VEVENT
DTSTART;TZID=America/Chicago:20160924T150000
DTEND;TZID=America/Chicago:20160924T200000
DTSTAMP:20260425T130759
CREATED:20160819T134741Z
LAST-MODIFIED:20160831T094234Z
UID:8461-1474729200-1474747200@www.sanantoniopeace.center
SUMMARY:EID Festival: Peace & Pluralism
DESCRIPTION:Note that the times have changed to 3pm-8pm \n \n
URL:http://www.sanantoniopeace.center/event/eid-festival-peace-pluralism/
LOCATION:S. Alamo and Villita St.\, San Antonio\, TX\, 78205\, United States
CATEGORIES:Other
END:VEVENT
END:VCALENDAR