BEGIN:VCALENDAR
VERSION:2.0
PRODID:-//peaceCENTER - ECPv4.6.13//NONSGML v1.0//EN
CALSCALE:GREGORIAN
METHOD:PUBLISH
X-WR-CALNAME:peaceCENTER
X-ORIGINAL-URL:http://www.sanantoniopeace.center
X-WR-CALDESC:Events for peaceCENTER
BEGIN:VEVENT
DTSTART;TZID=America/Chicago:20141116T160000
DTEND;TZID=America/Chicago:20141116T180000
DTSTAMP:20260425T163013
CREATED:20141110T022230Z
LAST-MODIFIED:20141110T022230Z
UID:819-1416153600-1416160800@www.sanantoniopeace.center
SUMMARY:Economic Justice: COPS/Metro Fall Leaders Assembly
DESCRIPTION: \n
URL:http://www.sanantoniopeace.center/event/economic-justice-copsmetro-fall-leaders-assembly/
LOCATION:2123 W. Commerce\, San Antonio\, TX\, United States
ORGANIZER;CN="COPS%2FMetro%20Alliance":MAILTO:copsandmetro@gmail.com
END:VEVENT
END:VCALENDAR