BEGIN:VCALENDAR
VERSION:2.0
PRODID:-//peaceCENTER - ECPv4.6.13//NONSGML v1.0//EN
CALSCALE:GREGORIAN
METHOD:PUBLISH
X-WR-CALNAME:peaceCENTER
X-ORIGINAL-URL:http://www.sanantoniopeace.center
X-WR-CALDESC:Events for peaceCENTER
BEGIN:VEVENT
DTSTART;TZID=America/Chicago:20160827T130000
DTEND;TZID=America/Chicago:20160827T153000
DTSTAMP:20260425T142209
CREATED:20160823T205316Z
LAST-MODIFIED:20160823T205316Z
UID:8500-1472302800-1472311800@www.sanantoniopeace.center
SUMMARY:Eastside Women's Mural Unveiling
DESCRIPTION: \n  \nMartinez Street Women’s Center\, San Anto Cultural Arts and the Antioch Missionary Baptist Church would like to present the mural artwork created for and by the Eastside Community. We’ve been planning and painting with the help of over 100 community members\, who have attended our community paint days and contributed to this amazing piece of public art. \nThis Saturday\, our collective vision will become a reality as we unveil the East Side’s largest mural\, honoring African American women and serving as a tool to inspire young women on their path to adulthood. This will mark the 51st mural in San Antonio brought together by SACA in collaboration with MSWC and AMBC\, and was led by mural artist Jane Madrigal & Rabbit Rye. \nIn addition\, Martinez Street Women’s Center will be hosting their annual Back to School Giveaway! This giveaway is for students who are in need of backpacks and/or school supplies. \nMusic by: DJ Despeinada\nEdible Art by: Chamoy City Limits\nScreen Printing by: Martinez Street Women’s Center\nTortilla Press by: San Anto Cultural Arts \nPlease join us in celebrating our collective effort and don’t miss out on fun filled community event! \n
URL:http://www.sanantoniopeace.center/event/eastside-womens-mural-unveiling/
LOCATION:2603 E. Houston\, San Antonio\, TX\, 78202\, United States
CATEGORIES:Other
END:VEVENT
END:VCALENDAR