BEGIN:VCALENDAR
VERSION:2.0
PRODID:-//peaceCENTER - ECPv4.6.13//NONSGML v1.0//EN
CALSCALE:GREGORIAN
METHOD:PUBLISH
X-WR-CALNAME:peaceCENTER
X-ORIGINAL-URL:http://www.sanantoniopeace.center
X-WR-CALDESC:Events for peaceCENTER
BEGIN:VEVENT
DTSTART;TZID=America/Chicago:20141020T080000
DTEND;TZID=America/Chicago:20141031T200000
DTSTAMP:20260425T174612
CREATED:20141020T111941Z
LAST-MODIFIED:20141020T111941Z
UID:463-1413792000-1414785600@www.sanantoniopeace.center
SUMMARY:Early Voting
DESCRIPTION:Vote early!  Polls are open 8:00 am to 8:00 PM (noon to 6:00 pm on Sundays) \nFor a list of early voting sites: http://elections.bexar.org/EarlyVote/Early%20Voting%20Calendar.pdf \n
URL:http://www.sanantoniopeace.center/event/early-voting/
END:VEVENT
END:VCALENDAR