BEGIN:VCALENDAR
VERSION:2.0
PRODID:-//peaceCENTER - ECPv4.6.13//NONSGML v1.0//EN
CALSCALE:GREGORIAN
METHOD:PUBLISH
X-WR-CALNAME:peaceCENTER
X-ORIGINAL-URL:http://www.sanantoniopeace.center
X-WR-CALDESC:Events for peaceCENTER
BEGIN:VEVENT
DTSTART;TZID=America/Chicago:20170115T130000
DTEND;TZID=America/Chicago:20170115T200000
DTSTAMP:20260425T124218
CREATED:20161217T121708Z
LAST-MODIFIED:20161217T121708Z
UID:9314-1484485200-1484510400@www.sanantoniopeace.center
SUMMARY:Dream Week: #WritersResist SATX
DESCRIPTION: \nOn January 15\, 2017\, writers across the United States and in Europe will come together for Writers Resist\, a “re-inauguration” of our shared commitment to the spirit of compassion\, equality\, free speech\, and the fundamental ideals of democracy. “Writers Resist: SATX” is San Antonio’s participation in this international event. It will be a mass reading of South Texas poets and writers\, each reading for 3 minutes\, from 1 to 8pm on Sunday January 15th at the Alamo Beer Brewery at 415 Burnet St\, San Antonio\, TX 78202\, with live music contributing to this DreamWeek event. Our aim is to provide a creative\, inclusive space on January 15th in which we may come together as an artistic community to give voice to the values we most treasure and need to strengthen under a Trump administration and beyond. In this spirit\, we join WritersResist on January 15th to move forward individually and as a nation by offering a powerful collective voice for the values we are for in this anxious moment and to resist forces that attack or seek to undermine the most basic principles of freedom and justice for all. \nSpeakers\nGemini Ink\, Wings Press\, and San Antonio poets and writers including award-winning poet Wendy Barker\, Texas Poet Laureate Laurie Ann Guerrero\, San Antonio Poet Laureate Jenny Browne\, San Antonio and Texas Poet Laureate Dr. Carmen Tafolla\, Vincent Cooper\, Anel Flores\, Jim La-Villa-Havelin\, Christopher “Rooster” Martinez\, Bryce Milligan\, Dr. Octavio Quintanilla\, Josh Robbins\, Andrea “Vocab” Sanderson\, and Viktoria Valenzuela. \nFor more info\nGemini Ink at 210.734.9673 \n
URL:http://www.sanantoniopeace.center/event/dream-week-writersresist-satx/
LOCATION:115 Burnet\, San Antonio\, TX\, 78202\, United States
CATEGORIES:DreamWeek
END:VEVENT
END:VCALENDAR