BEGIN:VCALENDAR
VERSION:2.0
PRODID:-//peaceCENTER - ECPv4.6.13//NONSGML v1.0//EN
CALSCALE:GREGORIAN
METHOD:PUBLISH
X-WR-CALNAME:peaceCENTER
X-ORIGINAL-URL:http://www.sanantoniopeace.center
X-WR-CALDESC:Events for peaceCENTER
BEGIN:VEVENT
DTSTART;TZID=America/Chicago:20141107T083000
DTEND;TZID=America/Chicago:20141107T151500
DTSTAMP:20260425T184118
CREATED:20141030T201124Z
LAST-MODIFIED:20141030T201124Z
UID:717-1415349000-1415373300@www.sanantoniopeace.center
SUMMARY:Domestic Jihad & Isis Seminar
DESCRIPTION:The Center for Terrorism Law will present a free one-day “Domestic Jihad & Isis Seminar” on Nov. 7. \nDiscussions throughout the day will focus on the threats posed by ISIS and radical Islam in the context of the war on terror. Experts will discuss domestic terrorism’s effects on national security and the possible legal and policy challenges to grappling with these issues. \nThe seminar has been approved for six CLE credits (one ethics) for Texas lawyers.  TCLOSE credits are pending approval for law enforcement personnel. \nThe featured speakers include author Daniel (Ghasem) Akbari\, developer Dwight Lieb\, Rabbi Aryeh Scheinberg of the Congregation Rodfei Sholom\, Sarwat Husain\, founding president of the San Antonio Chapter of the Council on American-Islamic Relations; Y. Alp Aslandogan\, president of the Alliance for Shared Values; Mark Pfeiffer\, J.D.\, director of the Christian Institute of Islamic Studies; Jim Conway\, president of Global Intel Strategies; and Professor Jeffrey Addicott\, director of the Center for Terrorism Law. \nRegistration begins at 8:30 a.m. To register (it’s free)  contact Jeffrey Addicott at (210)887-0429 or jaddicott@stmarytx.edu. \n
URL:http://www.sanantoniopeace.center/event/domestic-jihad-isis-seminar/
LOCATION:23808 Resort Parkway\, San Antonio\, TX\, 78261\, United States
END:VEVENT
END:VCALENDAR