BEGIN:VCALENDAR
VERSION:2.0
PRODID:-//peaceCENTER - ECPv4.6.13//NONSGML v1.0//EN
CALSCALE:GREGORIAN
METHOD:PUBLISH
X-WR-CALNAME:peaceCENTER
X-ORIGINAL-URL:http://www.sanantoniopeace.center
X-WR-CALDESC:Events for peaceCENTER
BEGIN:VEVENT
DTSTART;TZID=America/Chicago:20160229T190000
DTEND;TZID=America/Chicago:20160229T210000
DTSTAMP:20260425T114723
CREATED:20151105T123118Z
LAST-MODIFIED:20151105T123118Z
UID:4918-1456772400-1456779600@www.sanantoniopeace.center
SUMMARY:Distinguished Lecture @ Trinity U: Robert A. Bjork\, Science of Learning
DESCRIPTION:Robert A. Bjork is a distinguished research professor in the Department of Psychology at the University of California\, Los Angeles. His research focuses on human learning and memory and the implications of the science of learning for training and instruction. A Fellow of the American Academy of Arts and Sciences\, Bjork has received UCLA’s Distinguished Teaching Award and the Society of Experimental Psychologists’ Norman Anderson Lifetime Achievement Award\, among other honors. This lecture is free and open to the public. This series is made possible through an endowment gift by Lenora and the late Walter F. Brown Sr. of San Antonio. \n
URL:http://www.sanantoniopeace.center/event/distinguished-lecture-trinity-u-robert-a-bjork-science-of-learning/
LOCATION:One Trinity Place\, San Antonio\, TX\, 78212\, United States
END:VEVENT
END:VCALENDAR