BEGIN:VCALENDAR
VERSION:2.0
PRODID:-//peaceCENTER - ECPv4.6.13//NONSGML v1.0//EN
CALSCALE:GREGORIAN
METHOD:PUBLISH
X-WR-CALNAME:peaceCENTER
X-ORIGINAL-URL:http://www.sanantoniopeace.center
X-WR-CALDESC:Events for peaceCENTER
BEGIN:VEVENT
DTSTART;TZID=America/Chicago:20170720T180000
DTEND;TZID=America/Chicago:20170720T190000
DTSTAMP:20260425T013250
CREATED:20170712T222506Z
LAST-MODIFIED:20170712T222506Z
UID:10839-1500573600-1500577200@www.sanantoniopeace.center
SUMMARY:Dignowity Dialogue - Homelessness
DESCRIPTION:Roundtable discussion with Dignowity Hill’s homeless ministries in an effort to build a stable network of communication and support. \nConfirmed participants:\nStrong Foundation\nCatholic Worker’s House\nSalvation Army\nChurch Under the Bridge\nHope House Ministries \n
URL:http://www.sanantoniopeace.center/event/dignowity-dialogue-homelessness/
LOCATION:1023 N. Pine\, San Antonio\, TX\, 78202\, United States
END:VEVENT
END:VCALENDAR