BEGIN:VCALENDAR
VERSION:2.0
PRODID:-//peaceCENTER - ECPv4.6.13//NONSGML v1.0//EN
CALSCALE:GREGORIAN
METHOD:PUBLISH
X-WR-CALNAME:peaceCENTER
X-ORIGINAL-URL:http://www.sanantoniopeace.center
X-WR-CALDESC:Events for peaceCENTER
BEGIN:VEVENT
DTSTART;VALUE=DATE:20160812
DTEND;VALUE=DATE:20160813
DTSTAMP:20260425T192822
CREATED:20160622T135105Z
LAST-MODIFIED:20160622T135105Z
UID:7524-1470960000-1471046399@www.sanantoniopeace.center
SUMMARY:Dignity's 40th Anniversary
DESCRIPTION:We will pass on more details as they become available. DignitySA works for respect and justice for people of all sexual orientations\, genders\, and gender identities—especially gay\, lesbian\, bisexual\, and transgender persons—in the Catholic Church and the world through education\, advocacy\, and support. \n \n
URL:http://www.sanantoniopeace.center/event/dignitys-40th-anniversary/
LOCATION:San Antonio\, TX\, United States
CATEGORIES:Other
END:VEVENT
END:VCALENDAR