BEGIN:VCALENDAR
VERSION:2.0
PRODID:-//peaceCENTER - ECPv4.6.13//NONSGML v1.0//EN
CALSCALE:GREGORIAN
METHOD:PUBLISH
X-WR-CALNAME:peaceCENTER
X-ORIGINAL-URL:http://www.sanantoniopeace.center
X-WR-CALDESC:Events for peaceCENTER
BEGIN:VEVENT
DTSTART;TZID=America/Chicago:20161001T093000
DTEND;TZID=America/Chicago:20161001T110000
DTSTAMP:20260425T153921
CREATED:20160924T142841Z
LAST-MODIFIED:20160924T142841Z
UID:8799-1475314200-1475319600@www.sanantoniopeace.center
SUMMARY:Dialogue Book Club: Three Mystics Walk Into a Tavern
DESCRIPTION:The Dialogue Institute is pleased to announce bi-weekly book club gatherings starting on October 1st. They will read the book; “Three Mystics Walk into a Tavern: A Once and Future Meeting of Rumi\, Meister Eckhart\, and Moses de León in Medieval Venice” co-authored by James C. Harrington\, a human rights lawyer in Austin\, TX\, the founder and director emeritus of the Texas Civil Rights Project and Sidney G. Hall III\, a United Methodist minister. \nIn Three Mystics Walk into a Tavern\, Jalal ad-Din Rumi\, Moses de León\, and Meister Eckhart—three of the greatest mystics of all time—meet in Venice for an imaginary night-long conversation that will inspire everyday individuals of the twenty-first century to find their own spirituality and realize that everyone can be a mystic. Although the mystics came from different backgrounds and religious traditions (Islam\, Judaism\, and Christianity)\, their spiritual paths led them to similar understandings of a union with the Divine. The three mystics have a timeless and timely message for people who walk the earth eight centuries after they did\, no matter an individual’s religious background or even if they have none. It is a message of connecting with the “divine spark” deep within us and within the universe. \nThis event is free and open to the public! \nMeeting Schedule: 9:30-10:00AM Light Breakfast\n10:00-11:00AM Book Discussion \nMeeting Dates: Saturday\, October 1st : Chapters 1-4 \nSaturday\, October 15th: Chapters 5-8 \nSaturday\, October 29th: Chapters 9-13 \nWhere: 4337 Vance Jackson Rd #203\, San Antonio\, TX 78230 \n
URL:http://www.sanantoniopeace.center/event/dialogue-book-club-three-mystics-walk-into-a-tavern/
LOCATION:4337 Vance Jackson Road Ste#203\, San Antonio\, TX\, 78230\, United States
CATEGORIES:Other
END:VEVENT
END:VCALENDAR