BEGIN:VCALENDAR
VERSION:2.0
PRODID:-//peaceCENTER - ECPv4.6.13//NONSGML v1.0//EN
CALSCALE:GREGORIAN
METHOD:PUBLISH
X-WR-CALNAME:peaceCENTER
X-ORIGINAL-URL:http://www.sanantoniopeace.center
X-WR-CALDESC:Events for peaceCENTER
BEGIN:VEVENT
DTSTART;TZID=America/Chicago:20151105T120000
DTEND;TZID=America/Chicago:20151105T130000
DTSTAMP:20260425T134219
CREATED:20151105T124429Z
LAST-MODIFIED:20151105T124429Z
UID:4924-1446724800-1446728400@www.sanantoniopeace.center
SUMMARY:Demography Lecture: Audrey Singer\, DACA and Undocumented Immigrants
DESCRIPTION: \n
URL:http://www.sanantoniopeace.center/event/demography-lecture-audrey-singer-daca-and-undocumented-immigrants/
LOCATION:501 W. César E. Chávez Blvd.\, San Antonio\, TX\, 78207\, United States
END:VEVENT
END:VCALENDAR