BEGIN:VCALENDAR
VERSION:2.0
PRODID:-//peaceCENTER - ECPv4.6.13//NONSGML v1.0//EN
CALSCALE:GREGORIAN
METHOD:PUBLISH
X-WR-CALNAME:peaceCENTER
X-ORIGINAL-URL:http://www.sanantoniopeace.center
X-WR-CALDESC:Events for peaceCENTER
BEGIN:VEVENT
DTSTART;TZID=America/Chicago:20141213T083000
DTEND;TZID=America/Chicago:20141213T150000
DTSTAMP:20260425T172244
CREATED:20141115T161753Z
LAST-MODIFIED:20141115T161900Z
UID:1008-1418459400-1418482800@www.sanantoniopeace.center
SUMMARY:Deliver Toys to Inner City Development
DESCRIPTION:On December 14 Inner City turns into a toy department store for their neighbors around Alazan-Apache Courts\, where many families live on less than $9\,000 a year. The Inner City Toy Store will sell new toys at a 90% discount\, so that parents may have the dignity of selecting toys for their children. without having to suffer the economic crisis of the Christmas season when they are already on an extremely limited budget. \nThey need your help in collecting toys:  New\, traditional\, nonviolent toys priced below $12. \nYou can deliver the toys to Inner City on Saturday\, December 13th from 8:30 am until 3:00 pm. If you wish\, stay and help by sorting and pricing the toys. \n  \n
URL:http://www.sanantoniopeace.center/event/deliver-toys-to-inner-city-development/
LOCATION:1300 Chihuahua St.\, San Antonio\, TX\, 78207\, United States
END:VEVENT
END:VCALENDAR