BEGIN:VCALENDAR
VERSION:2.0
PRODID:-//peaceCENTER - ECPv4.6.13//NONSGML v1.0//EN
CALSCALE:GREGORIAN
METHOD:PUBLISH
X-WR-CALNAME:peaceCENTER
X-ORIGINAL-URL:http://www.sanantoniopeace.center
X-WR-CALDESC:Events for peaceCENTER
BEGIN:VEVENT
DTSTART;TZID=America/Chicago:20161010T190000
DTEND;TZID=America/Chicago:20161010T203000
DTSTAMP:20260425T163104
CREATED:20160928T222540Z
LAST-MODIFIED:20160928T222540Z
UID:8819-1476126000-1476131400@www.sanantoniopeace.center
SUMMARY:DeCoursey Lecture: Nikki Giovanni @TrinityU
DESCRIPTION: \nThe Trinity University DeCoursey Lecture presents award-winning poet Nikki Giovanni on Monday\, Oct. 10\, at 7 p.m. in Laurie Auditorium. \nOne of the world’s most well-known African American poets\, Nikki Giovanni’s work has been influenced by the Civil Rights Movement as well as the Black Power Movement and covers topics of race\, social issues\, and even children’s literature. She has been awarded the Langston Hughes Medal\, the NAACP Image Award\, twenty honorary doctorates\, and has been nominated for a Grammy Award. Oprah Winfrey named her one of twenty-five “Living Legends.” In 2015\, she was named a Virginia Women in History for her contributions to poetry\, education\, and society. \nThe event is free and open to the public. \nThe DeCoursey Lecture Series is made possible by a gift from the late General Elbert DeCoursey and Mrs. Esther DeCoursey of San Antonio. \n
URL:http://www.sanantoniopeace.center/event/decoursey-lecture-nikki-giovanni-trinityu/
LOCATION:1 Auditorium Circle\, San Antonio\, TX\, 78212\, United States
CATEGORIES:Other
END:VEVENT
END:VCALENDAR