BEGIN:VCALENDAR
VERSION:2.0
PRODID:-//peaceCENTER - ECPv4.6.13//NONSGML v1.0//EN
CALSCALE:GREGORIAN
METHOD:PUBLISH
X-WR-CALNAME:peaceCENTER
X-ORIGINAL-URL:http://www.sanantoniopeace.center
X-WR-CALDESC:Events for peaceCENTER
BEGIN:VEVENT
DTSTART;TZID=America/Chicago:20170623T190000
DTEND;TZID=America/Chicago:20170623T210000
DTSTAMP:20260425T031326
CREATED:20170619T224121Z
LAST-MODIFIED:20170619T224121Z
UID:10500-1498244400-1498251600@www.sanantoniopeace.center
SUMMARY:Decolonize your Diet Book Plática w/ authors
DESCRIPTION: \nJoin us for “Decolonize Your Diet” plática and book signing with Luz Calvo and Catrióna Rueda Esquibel on Friday June 23 at 7 PM at the Esperanza Peace and Justice Center at 922 San Pedro Ave. \nMore than just a cookbook\, Decolonize Your Diet redefines what is meant by “traditional” Mexican food by going back into history to reclaim ancestral foods as a source of protection from modern diseases of development. Authors Luz Calvo and Catriona Rueda Esquibel are life partners; when Luz was diagnosed with breast cancer in 2006\, they both radically changed their diets and began seeking out recipes featuring healthy\, vegetarian Mexican foods. They promote a diet that is rich in plants indigenous to the Americas (corn\, beans\, squash\, greens\, herbs\, and seeds). Also check out their blog and Facebook page! \nLuz and Catriona will be spending the weekend with us and you will have 3 opportunities to meet them. Check back on our Facebook for the other 2 events! This event is part of a series the Esperanza is doing on reclaiming ancestral foods. \nSpecial thanks to the amigxs who have met to plan the series: Anayanse Garza\, Beto DeLeón\, Laura Rios Ramirez\, Lilliana Saldaña\, Lillian Stevens\, Lisa Cervantes\, Isaac Garcia y Nadia Gaona.\n\nAbout the Authors\nLuz Calvo received their PhD in the History of Consciousness Program at UC Santa Cruz in 2001. Luz is a professor of Ethnic Studies at Cal State East Bay\, where they teach a course entitled\, “Decolonize Your Diet: Food Justice in Communities of Color.” Luz traces their food genealogy to her paternal grandparents\, who ran a Mexican restaurant in San Fernando\, California\, from the 1940s through the 1970s. The Calvo business began when the grandparents began selling tacos to the cannery workers\, with their grandfather purchasing fresh\, seasonal ingredients from the LA Central market\, and their grandmother preparing and packaging the tacos. \nCatrióna Rueda Esquibel received her PhD in the History of Consciousness Program at UC Santa Cruz (1999). She is an associate professor in Race and Resistance Studies at San Francisco State University. She is the author of With her Machete in her Hand (U of Texas Press\, 2006) Her father’s family has lived in northern New Mexico for more than twelve generations. On her mother’s side\, her great-great-grandmother\, great-grandmother\, and grandmother all migrated from Sonora to Los Angeles between 1913 and 1919. Each of these women made a living cooking for Mexican migrant workers and Chicanos/as in Los Angeles. Catriona is interested in diet and diabetes because her father and many of his siblings were diagnosed with type 2 diabetes. \n
URL:http://www.sanantoniopeace.center/event/decolonize-your-diet-book-platica-w-authors/
LOCATION:922 San Pedro\, San Antonio\, TX\, United States
CATEGORIES:Other
END:VEVENT
END:VCALENDAR