BEGIN:VCALENDAR
VERSION:2.0
PRODID:-//peaceCENTER - ECPv4.6.13//NONSGML v1.0//EN
CALSCALE:GREGORIAN
METHOD:PUBLISH
X-WR-CALNAME:peaceCENTER
X-ORIGINAL-URL:http://www.sanantoniopeace.center
X-WR-CALDESC:Events for peaceCENTER
BEGIN:VEVENT
DTSTART;TZID=America/Chicago:20161024T183000
DTEND;TZID=America/Chicago:20161024T203000
DTSTAMP:20260425T130104
CREATED:20161015T145336Z
LAST-MODIFIED:20161021T050514Z
UID:8871-1477333800-1477341000@www.sanantoniopeace.center
SUMMARY:Decolonize the Vote
DESCRIPTION:\n\nUniversidad Sin Fronteras presents DECOLONIZE THE VOTE \nPresenter : Mario Salas & John Herrera \nWe will be discussing our current voting situation and got us to this point.\nMost folks are feeling powerless especially with the candidate choices we have.\nDoes it end all with just voting?\nWhat else can be done?\nWhat have we done before when we were in a situation like this? \nPotluck \nFor more info\nJoaquin.muerte@gmail.com\n210.413.8978 \n\n  \n
URL:http://www.sanantoniopeace.center/event/decolonize-the-vote/
LOCATION:3412 S. Flores\, San Antonio\, TX\, 78204\, United States
CATEGORIES:Other
END:VEVENT
END:VCALENDAR