BEGIN:VCALENDAR
VERSION:2.0
PRODID:-//peaceCENTER - ECPv4.6.13//NONSGML v1.0//EN
CALSCALE:GREGORIAN
METHOD:PUBLISH
X-WR-CALNAME:peaceCENTER
X-ORIGINAL-URL:http://www.sanantoniopeace.center
X-WR-CALDESC:Events for peaceCENTER
BEGIN:VEVENT
DTSTART;TZID=America/Chicago:20160920T183000
DTEND;TZID=America/Chicago:20160920T200000
DTSTAMP:20260425T141048
CREATED:20160818T213952Z
LAST-MODIFIED:20160818T213952Z
UID:8458-1474396200-1474401600@www.sanantoniopeace.center
SUMMARY:Dare to Listen Fiesta
DESCRIPTION:This is the first official Dare to Listen event for those who have dared to take the dare. Join us for light refreshments if you have taken the dare or if you would like to learn more. \nThe event will include brief presentations by Joyce Slocum\, TPR president and CEO\, and Dennis Noll\, executive director of the San Antonio Area Foundation. You will have the opportunity to ask questions or provide input on how you are putting Dare to Listen into practice. \n
URL:http://www.sanantoniopeace.center/event/dare-to-listen-fiesta/
LOCATION:285 Oblate Drive\, San Antonio\, TX\, 78216\, United States
ORGANIZER;CN="Texas%20Public%20Radio":MAILTO: elisa@tpr.org
END:VEVENT
END:VCALENDAR