BEGIN:VCALENDAR
VERSION:2.0
PRODID:-//peaceCENTER - ECPv4.6.13//NONSGML v1.0//EN
CALSCALE:GREGORIAN
METHOD:PUBLISH
X-WR-CALNAME:peaceCENTER
X-ORIGINAL-URL:http://www.sanantoniopeace.center
X-WR-CALDESC:Events for peaceCENTER
BEGIN:VEVENT
DTSTART;TZID=America/Chicago:20161027T193000
DTEND;TZID=America/Chicago:20161027T210000
DTSTAMP:20260425T124446
CREATED:20160818T215147Z
LAST-MODIFIED:20160818T215147Z
UID:8459-1477596600-1477602000@www.sanantoniopeace.center
SUMMARY:Dare to Listen: 3 Wise Guys & a Gal
DESCRIPTION: \nDifferences between religious beliefs are often all too apparent. But what can people of different faiths agree on? What ideas might bring them together? \nTexas Public Radio presents Three Wise Guys and a Gal\, which is your opportunity to hear views from a Jewish rabbi\, a Catholic priest\, a Muslim imam and a Protestant minister. Join them as they Dare to Listen. \n
URL:http://www.sanantoniopeace.center/event/dare-to-listen-3-wise-guys-a-gal/
LOCATION:723 S. Brazos\, San Antonio\, TX\, 78207\, United States
ORGANIZER;CN="Texas%20Public%20Radio":MAILTO: elisa@tpr.org
END:VEVENT
END:VCALENDAR