BEGIN:VCALENDAR
VERSION:2.0
PRODID:-//peaceCENTER - ECPv4.6.13//NONSGML v1.0//EN
CALSCALE:GREGORIAN
METHOD:PUBLISH
X-WR-CALNAME:peaceCENTER
X-ORIGINAL-URL:http://www.sanantoniopeace.center
X-WR-CALDESC:Events for peaceCENTER
BEGIN:VEVENT
DTSTART;TZID=America/Chicago:20160813T103000
DTEND;TZID=America/Chicago:20160813T120000
DTSTAMP:20260425T181825
CREATED:20160807T182645Z
LAST-MODIFIED:20160807T182645Z
UID:8314-1471084200-1471089600@www.sanantoniopeace.center
SUMMARY:Curanderismo & Folk Healing ~ Explorations in Ethnobotany
DESCRIPTION: \nPresenter Dr. Elizabeth de la Portilla writes and lectures on the world and practices of San Antonio curanderas. Curanderas —traditional healers in Mexican culture—bridge the gaps between multiple planes of existence–spiritual and material\, modern and pre-modern–dispensing medicinal herbs\, prayers\, and instruction. As a scholar\, an ethnographer\, and a curandera in training\, de la Portilla’s parallel perspectives uniquely aid readers and students in understanding this subordinated culture. Retelling the stories various healers have shared\, interpreting their answers to her probing questions\, and describing the herbs and recipes they use in their arts\, she vividly illuminates the borderland context of San Antonio. Scholars and readers of anthropology\, sociology\, Chicana & Chicano studies\, women’s studies will savor layers of meaning and application in her book\, They All Want Magic: Curanderas & Folk Healing. \nMade possible through support from the Texas Commission on the Arts. \n
URL:http://www.sanantoniopeace.center/event/curanderismo-folk-healing-explorations-in-ethnobotany/
LOCATION:1349 Neal Rd\,\, San Antonio\, TX\, 78264\, United States
CATEGORIES:Other
END:VEVENT
END:VCALENDAR