BEGIN:VCALENDAR
VERSION:2.0
PRODID:-//peaceCENTER - ECPv4.6.13//NONSGML v1.0//EN
CALSCALE:GREGORIAN
METHOD:PUBLISH
X-WR-CALNAME:peaceCENTER
X-ORIGINAL-URL:http://www.sanantoniopeace.center
X-WR-CALDESC:Events for peaceCENTER
BEGIN:VEVENT
DTSTART;TZID=America/Chicago:20150228T130000
DTEND;TZID=America/Chicago:20150228T150000
DTSTAMP:20260425T112939
CREATED:20150226T113504Z
LAST-MODIFIED:20150226T113505Z
UID:2564-1425128400-1425135600@www.sanantoniopeace.center
SUMMARY:Culture Strike's Listening Tour Along the US/Mexico Border
DESCRIPTION: \nThis Saturday\, Feb.28th from 1-3pm at Casa de Cuentos (816 S. Colorado) come out and welcome CultureStr/ke as part of their 8-day Listening Tour! \nWe will have a convivio with food and music\, as well as a cultural intercambio about how we use art to tell the stories that are often untold and change our culture in the process. \nFrom CultureStrike:\nStarting today\, CultureStrike staff are beginning an eight-day road trip through border cities in Arizona and Texas to learn how to amplify arts and culture work concerning the border. We’ll be uploading with their social media updates to Storify. Check here for updates: http://sfy.co/f0K1y \nIf you’d like\, please bring a dish or a drink to share.\n\nFor more\, call 210.228.0201 \n
URL:http://www.sanantoniopeace.center/event/culture-strikes-listening-tour-along-the-usmexico-border/
LOCATION:816 S. Colorado\, San Antonio\, TX\, 78207\, United States
END:VEVENT
END:VCALENDAR