BEGIN:VCALENDAR
VERSION:2.0
PRODID:-//peaceCENTER - ECPv4.6.13//NONSGML v1.0//EN
CALSCALE:GREGORIAN
METHOD:PUBLISH
X-WR-CALNAME:peaceCENTER
X-ORIGINAL-URL:http://www.sanantoniopeace.center
X-WR-CALDESC:Events for peaceCENTER
BEGIN:VEVENT
DTSTART;TZID=America/Chicago:20160909T180000
DTEND;TZID=America/Chicago:20160909T200000
DTSTAMP:20260425T190735
CREATED:20160808T173541Z
LAST-MODIFIED:20160808T173541Z
UID:8326-1473444000-1473451200@www.sanantoniopeace.center
SUMMARY:Cultural Conversation on Race and Culture
DESCRIPTION: \nCommunity leaders continue conversations on race and culture \nWHAT:\nContinuing a community dialog that began in May to tackle intolerance and work towards unity\, District 8 Councilman Ron Nirenberg and State Sen. José Menéndez will convene a Cultural Conversations event at the UTSA Institute of Texan Cultures. \nLast year\, San Antonio was rocked by a wave of hate crimes that targeted the Jewish community through vandalism. The attacks\, which took place in several communities on San Antonio’s northwest side\, alarmed civic and faith leaders but also quickly brought together neighbors who stood against the hate speech and stood together to celebrate diversity and champion unity. \nCouncilman Nirenberg and Sen. Menéndez began Cultural Conversations as a response to those events. Recently\, they called upon the museum’s Texas Star Heritage Award recipients and other community leaders to facilitate conversations addressing recent racially motivated unrest and violence. The conversations are meant to break down barriers and strengthen relationships among people and communities\, in turn\, making San Antonio a better\, more tolerant place. \nTexas Star Heritage Award recipients include G.P. Singh of San Antonio’s Sikh community\, Janie Barrera of LiftFund and board members from the Our Community\, Inc. Group. \nWHEN:\n6 – 8 p.m.\, Friday\, Sept. 9\, 2016 \nWHERE:\nInstitute of Texan Cultures\nUTSA Hemisfair Campus\, 801 E. César E. Chávez Blvd.\, San Antonio\, TX 78205 \nADMISSION:\nFree and open to the public. \nCONTACT:\nFor additional information\, call (210) 458-2300 or visit TexanCultures.com. \n
URL:http://www.sanantoniopeace.center/event/cultural-conversation-on-race-and-culture/
LOCATION:801 E. Cesar E. Chavez Blvd.\, San Antonio\, TX\, 78205\, United States
CATEGORIES:Other
END:VEVENT
END:VCALENDAR