BEGIN:VCALENDAR
VERSION:2.0
PRODID:-//peaceCENTER - ECPv4.6.13//NONSGML v1.0//EN
CALSCALE:GREGORIAN
METHOD:PUBLISH
X-WR-CALNAME:peaceCENTER
X-ORIGINAL-URL:http://www.sanantoniopeace.center
X-WR-CALDESC:Events for peaceCENTER
BEGIN:VEVENT
DTSTART;TZID=America/Chicago:20150122T180000
DTEND;TZID=America/Chicago:20150124T150000
DTSTAMP:20260425T174411
CREATED:20141219T235803Z
LAST-MODIFIED:20141222T182356Z
UID:1749-1421949600-1422111600@www.sanantoniopeace.center
SUMMARY:Creating Common Good: A Practical Conference For Economic Equality
DESCRIPTION:\nTrinity Institute\n\nHow do we take on the pervasive\, overwhelming issue of economic inequality?\nJoin us to learn about emerging and inclusive theological perspectives and to engage in inquiry\, dialogue\, and reflection.\nWorld-class speakers\, broadcast LIVE from New York!: \nThe Most Rev. Justin Welby\, Archbishop of Canterbury\nCornel West (The Rich and The Rest of Us)\nBarbara Ehrenreich (Author of “Nickel and Dimed” and “This Land Is Their Land”)\nJuliet Schor (Economist and Author of “Plenitude: The New Economics of True Wealth”)\nThe Rt. Rev. Julio Murray\, Bishop of Panama \nhttps://www.trinitywallstreet.org/trinity-institute/2015/home \nThis conference is open to the public\nand of particular interest to clergy\, lay leaders\, seminarians\,students\, community leaders\nand all those who are dedicated to struggling for economic justice. \nEpiscopal Church of Reconciliation\n8900 Starcrest\, San Antonio\, TX \nThursday\, January 22nd – 6-8 pm\n(no registration fee for Thursday evening only) \nFriday\, January 23rd & Saturday\, January 24th – 8:00 am-3 pm \nAs-you-are-able registration fee at the door: $50\, $30 or $10 for Institute experience.\n$7/day lunch orders being taken for Friday and Saturday: info@cor-satx.org \nRSVP to the person who sent you this invitation\, please. \nShare this invite broadly! \nPartners in this local simulcast:\nCompassionate San Antonio\, Episcopal Church of Reconciliation\,\nEpiscopal Diocese of West Texas\, Haven for Hope Spiritual Services\,\nOblate School of Theology\, San Antonio Community of Congregations\,\nSan Antonio peaceCENTER\, San Antonio Sponsoring Committee\,\nIn Our City for Good! \n
URL:http://www.sanantoniopeace.center/event/creating-common-good-a-practical-conference-for-economic-equality/
LOCATION:8900 Starcrest\, San Antonio\, TX\, United States
END:VEVENT
END:VCALENDAR