BEGIN:VCALENDAR
VERSION:2.0
PRODID:-//peaceCENTER - ECPv4.6.13//NONSGML v1.0//EN
CALSCALE:GREGORIAN
METHOD:PUBLISH
X-WR-CALNAME:peaceCENTER
X-ORIGINAL-URL:http://www.sanantoniopeace.center
X-WR-CALDESC:Events for peaceCENTER
BEGIN:VEVENT
DTSTART;TZID=America/Chicago:20150109T190000
DTEND;TZID=America/Chicago:20150109T210000
DTSTAMP:20260425T151748
CREATED:20141227T012930Z
LAST-MODIFIED:20141227T012930Z
UID:1859-1420830000-1420837200@www.sanantoniopeace.center
SUMMARY:Cornel West @ Ivy Educational Fund Dinner
DESCRIPTION: \nThe San Antonio Ivy Educational Fund\, Inc. presents\, “An Evening with Dr. Cornel West.” This year\, this annual event will feature Dr. West\, a prominent author\, editor\, professor\, performer and commentator. He has a passion to communicate and to keep alive the legacy of Dr. King – a legacy of telling the truth and bearing witness to love and justice. \nADVANCE TICKETS ARE REQUIRED: https://app.etapestry.com/onlineforms/SanAntonioIvyEducationalFund/ticketpurchase.html \n
URL:http://www.sanantoniopeace.center/event/cornel-west-ivy-educational-fund-dinner/
LOCATION:847 E. Hildebrand \, San Antonio\, TX\, 78212\, United States
END:VEVENT
END:VCALENDAR