BEGIN:VCALENDAR
VERSION:2.0
PRODID:-//peaceCENTER - ECPv4.6.13//NONSGML v1.0//EN
CALSCALE:GREGORIAN
METHOD:PUBLISH
X-WR-CALNAME:peaceCENTER
X-ORIGINAL-URL:http://www.sanantoniopeace.center
X-WR-CALDESC:Events for peaceCENTER
BEGIN:VEVENT
DTSTART;TZID=America/Chicago:20170223T180000
DTEND;TZID=America/Chicago:20170223T190000
DTSTAMP:20260425T111113
CREATED:20170219T190535Z
LAST-MODIFIED:20170219T190538Z
UID:9819-1487872800-1487876400@www.sanantoniopeace.center
SUMMARY:Compassion Vigil
DESCRIPTION: \nYou are welcome to share spontaneous prayers or bring a poem or a prayer from your own faith tradition. \nThe peaceCENTER has hosted two prayer vigils in front of the Cathedral and the participants have asked that it be a regularly scheduled event. We have partnered with the Interfaith Welcome Coalition\, and starting this Thursday we will hold a vigil the 4th Thursday of every month: February 23 | March 23 | April 27 | May 25 | June 22 | July 27. We hope you can join us.  \n
URL:http://www.sanantoniopeace.center/event/compassion-vigil/
LOCATION:San Antonio\, TX\, United States
CATEGORIES:peaceCENTER
ORGANIZER;CN="peaceCENTER":MAILTO:info@sacompassionnet.org
END:VEVENT
END:VCALENDAR