BEGIN:VCALENDAR
VERSION:2.0
PRODID:-//peaceCENTER - ECPv4.6.13//NONSGML v1.0//EN
CALSCALE:GREGORIAN
METHOD:PUBLISH
X-WR-CALNAME:peaceCENTER
X-ORIGINAL-URL:http://www.sanantoniopeace.center
X-WR-CALDESC:Events for peaceCENTER
BEGIN:VEVENT
DTSTART;TZID=America/Chicago:20160810T170000
DTEND;TZID=America/Chicago:20160811T200000
DTSTAMP:20260425T192753
CREATED:20160621T214047Z
LAST-MODIFIED:20160624T201739Z
UID:7493-1470848400-1470945600@www.sanantoniopeace.center
SUMMARY:Compassion Fatigue Training
DESCRIPTION:Join the Presa Community Center for this interactive workshop where we will explore the concept of compassion fatigue as it relates to Community Health Worker professionals. You will learn to develop a self-care plan and discover the work-life balance that is right for you! \nThis is a two-day training; 5-8 both evenings. \nFEE: $65.00 (Register before July 28th to receive 50% discount) Pay by cash\, check or money order \n6 DSHS CEUs AVAILABLE  \nPlease email: abarraza@presa.org to register  \n  \n
URL:http://www.sanantoniopeace.center/event/compassion-fatigue-training/
LOCATION:3721 S. Presa St.\, San Antonio\, TX\, 78210\, United States
CATEGORIES:Other
END:VEVENT
END:VCALENDAR