BEGIN:VCALENDAR
VERSION:2.0
PRODID:-//peaceCENTER - ECPv4.6.13//NONSGML v1.0//EN
CALSCALE:GREGORIAN
METHOD:PUBLISH
X-WR-CALNAME:peaceCENTER
X-ORIGINAL-URL:http://www.sanantoniopeace.center
X-WR-CALDESC:Events for peaceCENTER
BEGIN:VEVENT
DTSTART;TZID=America/Chicago:20161021T090000
DTEND;TZID=America/Chicago:20161021T153000
DTSTAMP:20260425T152440
CREATED:20161016T104313Z
LAST-MODIFIED:20161016T104313Z
UID:8875-1477040400-1477063800@www.sanantoniopeace.center
SUMMARY:Compassion Fatigue Summit
DESCRIPTION: \nJoin the San Antonio Area Foundation for a one-day Compassion Fatigue Summit designed for nonprofit professional caregivers working with children and adults with disabilities\, seniors or animal serving-organizations. \nIn the morning\, Amy Cunningham\, Talent Management Consultant for CHRISTUS Health and certified Compassion Fatigue Educator will speak about “Helping the Helper – Overcoming Compassion Fatigue\, Stress\, and Burnout.” She will help participants learn how to recognize compassion fatigue\, manage the symptoms and build resiliency\, and establish a better work-life balance. \nWe’ll spend the afternoon participating in interactive sessions learning about physical\, mental\, emotional and occupational self-care practices. A special workshop will be offered for caring professionals and volunteers who work in the animal welfare field. Participants will be asked to choose three of these four sessions during the registration process: \n\n\nCreative Writing as a Tool for Healing and Reflection\nPresenters: Sheila Black\, Executive Director\, Gemini Ink and Jennifer Knox\, Writers in Communities Director\n\nBuilding a Restorative Culture for Individuals and Organizations\nPresenter: Delise Crimmins\, Founding Partner\, Redline Leadership\n\nLive Well to Be Well\nPresenter: Jan Tilley\, MS and Registered Dietician\, President and CEO\, JTA Wellness\n\nCompassion Fatigue in the Animal Care Community\nPresenter: Cathy M. Rosenthal\, Animal Welfare Communications Professional\n\n
URL:http://www.sanantoniopeace.center/event/compassion-fatigue-summit/
LOCATION:303 Pear Parkway\, Suite 114\, San Antonio\, TX\, 78215\, United States
CATEGORIES:Other
END:VEVENT
END:VCALENDAR