BEGIN:VCALENDAR
VERSION:2.0
PRODID:-//peaceCENTER - ECPv4.6.13//NONSGML v1.0//EN
CALSCALE:GREGORIAN
METHOD:PUBLISH
X-WR-CALNAME:peaceCENTER
X-ORIGINAL-URL:http://www.sanantoniopeace.center
X-WR-CALDESC:Events for peaceCENTER
BEGIN:VEVENT
DTSTART;TZID=America/Chicago:20141009T183000
DTEND;TZID=America/Chicago:20141009T200000
DTSTAMP:20260425T190248
CREATED:20141008T061242Z
LAST-MODIFIED:20141008T061818Z
UID:22-1412879400-1412884800@www.sanantoniopeace.center
SUMMARY:Compassion Action Night
DESCRIPTION:Join us at the Rock House at Oblate School of Theology for our monthly Compassion Action Night\, where you can meet up with others working to have San Antonio recognized as a world-class compassionate city. Bring a bag dinner\, or snacks to share if you want. \n
URL:http://www.sanantoniopeace.center/event/compassion-action-night/
LOCATION:285 Oblate Drive\, San Antonio\, TX\, United States
END:VEVENT
END:VCALENDAR